BEGIN:VCALENDAR
VERSION:2.0
PRODID:-//AnandChowdhary//calendar-link//EN
BEGIN:VEVENT
DTSTART:20260424T160000Z
DTEND:20260424T160100Z
DTSTAMP:20260420T210913Z
SUMMARY:Money for the Rest of Us Live Portfolio Cohort Registration Opens
DESCRIPTION:Register for the Money for the Rest of Us Live Portfolio Cohort. Remember, we only have seats for 25 investors. Don't wait and miss out.
UID:71384
END:VEVENT
END:VCALENDAR
